BEGIN:VCALENDAR
VERSION:2.0
PRODID:-//Trondhjem Sanitetsforening - ECPv6.15.17.1//NONSGML v1.0//EN
CALSCALE:GREGORIAN
METHOD:PUBLISH
X-ORIGINAL-URL:https://trondhjemsanitetsforening.no
X-WR-CALDESC:Arrangement for Trondhjem Sanitetsforening
REFRESH-INTERVAL;VALUE=DURATION:PT1H
X-Robots-Tag:noindex
X-PUBLISHED-TTL:PT1H
BEGIN:VTIMEZONE
TZID:Europe/Oslo
BEGIN:DAYLIGHT
TZOFFSETFROM:+0100
TZOFFSETTO:+0200
TZNAME:CEST
DTSTART:20240331T010000
END:DAYLIGHT
BEGIN:STANDARD
TZOFFSETFROM:+0200
TZOFFSETTO:+0100
TZNAME:CET
DTSTART:20241027T010000
END:STANDARD
BEGIN:DAYLIGHT
TZOFFSETFROM:+0100
TZOFFSETTO:+0200
TZNAME:CEST
DTSTART:20250330T010000
END:DAYLIGHT
BEGIN:STANDARD
TZOFFSETFROM:+0200
TZOFFSETTO:+0100
TZNAME:CET
DTSTART:20251026T010000
END:STANDARD
BEGIN:DAYLIGHT
TZOFFSETFROM:+0100
TZOFFSETTO:+0200
TZNAME:CEST
DTSTART:20260329T010000
END:DAYLIGHT
BEGIN:STANDARD
TZOFFSETFROM:+0200
TZOFFSETTO:+0100
TZNAME:CET
DTSTART:20261025T010000
END:STANDARD
END:VTIMEZONE
BEGIN:VEVENT
DTSTART;TZID=Europe/Oslo:20251019T160000
DTEND;TZID=Europe/Oslo:20251019T200000
DTSTAMP:20260422T122424
CREATED:20250925T082841Z
LAST-MODIFIED:20250925T082841Z
UID:10002594-1760889600-1760904000@trondhjemsanitetsforening.no
SUMMARY:TV-aksjonen
DESCRIPTION:Årets aksjon er til inntekt for Atlas-alliansen og skal åpne dører for funksjonshemmede som lever i krig og fattigdom. Oppmøtested er Kirkens bymisjon\, Munkegata 4\, kl. 16 søndag 19. oktober. \nMeld deg her:\nInformasjon om bøssebæring
URL:https://trondhjemsanitetsforening.no/arrangement/tv-aksjonen/
LOCATION:Kirkens bymisjon\, Munkegata 4\, Munkegata 4\, TRONDHEIM\, 7012\, Norway
ATTACH;FMTTYPE=image/jpeg:https://trondhjemsanitetsforening.no/wp-content/uploads/2025/09/2_facebook_insta_delebilde_1080x1350_02_nrk_01096.jpg
END:VEVENT
END:VCALENDAR